BEGIN:VCALENDAR
VERSION:2.0
PRODID:-//Silver Lake Nature Center - ECPv5.16.4//NONSGML v1.0//EN
CALSCALE:GREGORIAN
METHOD:PUBLISH
X-WR-CALNAME:Silver Lake Nature Center
X-ORIGINAL-URL:https://silverlakenaturecenter.org
X-WR-CALDESC:Events for Silver Lake Nature Center
BEGIN:VTIMEZONE
TZID:America/New_York
BEGIN:DAYLIGHT
TZOFFSETFROM:-0500
TZOFFSETTO:-0400
TZNAME:EDT
DTSTART:20170312T070000
END:DAYLIGHT
BEGIN:STANDARD
TZOFFSETFROM:-0400
TZOFFSETTO:-0500
TZNAME:EST
DTSTART:20171105T060000
END:STANDARD
END:VTIMEZONE
BEGIN:VEVENT
DTSTART;TZID=America/New_York:20171104T193000
DTEND;TZID=America/New_York:20171104T213000
DTSTAMP:20260425T084846
CREATED:20170314T182926Z
LAST-MODIFIED:20171103T222053Z
UID:1221-1509823800-1509831000@silverlakenaturecenter.org
SUMMARY:Charlie Zahm & Tad Marks Concert ~ A Tribute to John Denver 7:30pm
DESCRIPTION:Charlie Zahm & Tad Marks return for another awesome concert on Saturday\, November 4th at 7:30pm! \n\nAdmission: $12/person in advance (by 11/3/17 at 5pm) or $15/person on 11/4/17. (Prices are the same for all ages.)\n\nCharlie Zahm on vocals & guitar and Tad Marks on fiddle! \nConcert will be held inside our Visitors’ Building. (Doors to Visitors’ Building open at 7pm.) \n 
URL:https://silverlakenaturecenter.org/event/charlie-zahm-tad-marks-concert-2/
LOCATION:Silver Lake Nature Center – Visitors’ Building\, 1306 Bath Road\, Bristol
ORGANIZER;CN="PattiAnn%20Cutter":MAILTO:pacutter@buckscounty.org
END:VEVENT
END:VCALENDAR