BEGIN:VCALENDAR
VERSION:2.0
PRODID:-//Silver Lake Nature Center - ECPv5.16.4//NONSGML v1.0//EN
CALSCALE:GREGORIAN
METHOD:PUBLISH
X-WR-CALNAME:Silver Lake Nature Center
X-ORIGINAL-URL:https://silverlakenaturecenter.org
X-WR-CALDESC:Events for Silver Lake Nature Center
BEGIN:VTIMEZONE
TZID:America/New_York
BEGIN:DAYLIGHT
TZOFFSETFROM:-0500
TZOFFSETTO:-0400
TZNAME:EDT
DTSTART:20190310T070000
END:DAYLIGHT
BEGIN:STANDARD
TZOFFSETFROM:-0400
TZOFFSETTO:-0500
TZNAME:EST
DTSTART:20191103T060000
END:STANDARD
END:VTIMEZONE
BEGIN:VEVENT
DTSTART;TZID=America/New_York:20190223T110000
DTEND;TZID=America/New_York:20190223T140000
DTSTAMP:20260424T062517
CREATED:20181105T200713Z
LAST-MODIFIED:20190115T235352Z
UID:2430-1550919600-1550930400@silverlakenaturecenter.org
SUMMARY:Focal Planes Foto Club's 45th Annual Photo Contest
DESCRIPTION:Focal Planes Foto Club’s 45th Annual Contest at SLNC is coming up in February!! Get your photos ready!! \nAwards Ceremony: Saturday\, February 23\, 11am-2pm. \nSee flyer for drop-off dates/info. \nFocal Planes Contest Flyer 2019 \nPlease contact Heather Baker\, President\, hebaker1@gmail.com or visit http://focalplanesfotoclub.com/ for details/information.
URL:https://silverlakenaturecenter.org/event/focal-planes-foto-clubs-45th-annual-photo-contest/
END:VEVENT
END:VCALENDAR