BEGIN:VCALENDAR
VERSION:2.0
PRODID:-//Silver Lake Nature Center - ECPv5.16.4//NONSGML v1.0//EN
CALSCALE:GREGORIAN
METHOD:PUBLISH
X-WR-CALNAME:Silver Lake Nature Center
X-ORIGINAL-URL:https://silverlakenaturecenter.org
X-WR-CALDESC:Events for Silver Lake Nature Center
BEGIN:VTIMEZONE
TZID:America/New_York
BEGIN:DAYLIGHT
TZOFFSETFROM:-0500
TZOFFSETTO:-0400
TZNAME:EDT
DTSTART:20220313T070000
END:DAYLIGHT
BEGIN:STANDARD
TZOFFSETFROM:-0400
TZOFFSETTO:-0500
TZNAME:EST
DTSTART:20221106T060000
END:STANDARD
END:VTIMEZONE
BEGIN:VEVENT
DTSTART;TZID=America/New_York:20220501T110000
DTEND;TZID=America/New_York:20220501T140000
DTSTAMP:20260424T161233
CREATED:20220228T161348Z
LAST-MODIFIED:20220430T134120Z
UID:4002-1651402800-1651413600@silverlakenaturecenter.org
SUMMARY:Event is FULL. Registration CLOSED. FREE Family Fishing Day\, 11am-2pm
DESCRIPTION:Event is FULL. Registration has CLOSED. Please look out for this next time. Thank you!!  \n  \nThis fun\, free\, informative event is sponsored by the Delaware River Fishermen’s Association. \nActivities will include learning about fish identification\, fishing equipment\, and fishing techniques. \nIf you have a fishing pole\, please feel free to bring it. There will also be a limited supply on-hand to use. \nEvent will take place at Silver Lake\, located at Silver Lake PARK. \nThis is a FREE event\, but registration is required as space is limited. \nRegister by scrolling down or by calling 215-785-1177. \n**In the comments section\, please be sure to indicate the number of adults/children you are registering. Thank you!! **
URL:https://silverlakenaturecenter.org/event/free-family-fishing-day-11am-2pm/
LOCATION:Silver Lake PARK – Bath Rd. Entrance
ORGANIZER;CN="PattiAnn%20Cutter":MAILTO:pacutter@buckscounty.org
END:VEVENT
END:VCALENDAR