BEGIN:VCALENDAR
VERSION:2.0
PRODID:-//Silver Lake Nature Center - ECPv5.16.4//NONSGML v1.0//EN
CALSCALE:GREGORIAN
METHOD:PUBLISH
X-WR-CALNAME:Silver Lake Nature Center
X-ORIGINAL-URL:https://silverlakenaturecenter.org
X-WR-CALDESC:Events for Silver Lake Nature Center
BEGIN:VTIMEZONE
TZID:America/New_York
BEGIN:DAYLIGHT
TZOFFSETFROM:-0500
TZOFFSETTO:-0400
TZNAME:EDT
DTSTART:20160313T070000
END:DAYLIGHT
BEGIN:STANDARD
TZOFFSETFROM:-0400
TZOFFSETTO:-0500
TZNAME:EST
DTSTART:20161106T060000
END:STANDARD
END:VTIMEZONE
BEGIN:VEVENT
DTSTART;VALUE=DATE:20160101
DTEND;VALUE=DATE:20160102
DTSTAMP:20260424T081943
CREATED:20151209T144952Z
LAST-MODIFIED:20151209T144952Z
UID:230-1451606400-1451692799@silverlakenaturecenter.org
SUMMARY:Happy New Year! The Visitor Center is closed today.
DESCRIPTION:We will reopen on Saturday\, January 2nd at 10 am.
URL:https://silverlakenaturecenter.org/event/happy-new-year-the-visitor-center-is-closed-today/
END:VEVENT
END:VCALENDAR