BEGIN:VCALENDAR
VERSION:2.0
PRODID:-//Silver Lake Nature Center - ECPv5.16.4//NONSGML v1.0//EN
CALSCALE:GREGORIAN
METHOD:PUBLISH
X-WR-CALNAME:Silver Lake Nature Center
X-ORIGINAL-URL:https://silverlakenaturecenter.org
X-WR-CALDESC:Events for Silver Lake Nature Center
BEGIN:VTIMEZONE
TZID:America/New_York
BEGIN:DAYLIGHT
TZOFFSETFROM:-0500
TZOFFSETTO:-0400
TZNAME:EDT
DTSTART:20210314T070000
END:DAYLIGHT
BEGIN:STANDARD
TZOFFSETFROM:-0400
TZOFFSETTO:-0500
TZNAME:EST
DTSTART:20211107T060000
END:STANDARD
END:VTIMEZONE
BEGIN:VEVENT
DTSTART;TZID=America/New_York:20210501T090000
DTEND;TZID=America/New_York:20210501T120000
DTSTAMP:20260424T172158
CREATED:20210217T212835Z
LAST-MODIFIED:20210501T105917Z
UID:3580-1619859600-1619870400@silverlakenaturecenter.org
SUMMARY:Volunteer Work Day - First Saturday of Each Month
DESCRIPTION:Registration has closed for this event. Please join us next time on Saturday\, June 5th. Thank you!! \n  \n  \n  \nVolunteer Work Days are held on the First Saturday of Each Month. \nHelp us maintain our grounds! Be prepared to get wet and dirty. Wear your mask and bring a refillable water bottle. This event is Rain or Shine.  \nMeet at the SLNC Pavilion (near the Visitors’ Center). \nRegister by scrolling down or by contacting Arden Williams at 215-785-1177 or awilliams@buckscounty.org.
URL:https://silverlakenaturecenter.org/event/volunteer-work-day-first-saturday-of-each-month-3-copy-copy-2/
LOCATION:SLNC Pavilion near Visitors’ Center\, 1306 Bath Road\, Bristol\, PA\, 19007
CATEGORIES:Volunteer
ORGANIZER;CN="Arden%20Williams":MAILTO:awilliams@buckscounty.org
END:VEVENT
END:VCALENDAR