BEGIN:VCALENDAR
VERSION:2.0
PRODID:-//Silver Lake Nature Center - ECPv5.16.4//NONSGML v1.0//EN
CALSCALE:GREGORIAN
METHOD:PUBLISH
X-WR-CALNAME:Silver Lake Nature Center
X-ORIGINAL-URL:https://silverlakenaturecenter.org
X-WR-CALDESC:Events for Silver Lake Nature Center
BEGIN:VTIMEZONE
TZID:America/New_York
BEGIN:DAYLIGHT
TZOFFSETFROM:-0500
TZOFFSETTO:-0400
TZNAME:EDT
DTSTART:20160313T070000
END:DAYLIGHT
BEGIN:STANDARD
TZOFFSETFROM:-0400
TZOFFSETTO:-0500
TZNAME:EST
DTSTART:20161106T060000
END:STANDARD
END:VTIMEZONE
BEGIN:VEVENT
DTSTART;TZID=America/New_York:20161001T090000
DTEND;TZID=America/New_York:20161001T140000
DTSTAMP:20260421T065436
CREATED:20160928T144205Z
LAST-MODIFIED:20160928T144205Z
UID:956-1475312400-1475330400@silverlakenaturecenter.org
SUMMARY:Waterway Cleanup Day
DESCRIPTION:DOW Sponsors Waterway Cleanup at Silver Lake Nature Center on Saturday\, October 1st\, 9am – 2 pm   \nHelp clean your local watershed! Come out to help us remove the trash that accumulates during the year. We will be cleaning up in and around Silver Lake and Magnolia Lake\, as well as all of the land and water in between. \nIn partnership with DOW and International Coastal Cleanup\, we will put on our work gloves and life vests to clear litter and debris from the land and waters of Silver Lake Park and Nature Preserve. \n Silver Lake and Magnolia Lake are a part of the Delaware River Watershed\, so our efforts to remove trash from shorelines and water will benefit a broad range of communities. \nThis event is held rain or shine. Remember; please wear clothes you don’t mind getting wet and dirty\, bring layers to keep warm or change into\, and bring a refillable water bottle. \nIf you own a kayak or canoe and/or have a Boat and Water Safety Awareness Certification please contact us ahead of time; you will be asked to help us collect the litter and debris from the water instead of from shore. \nCome out and join us. Lunch will be provided. Please call 215-785-1177 or email awilliams@buckscounty.org to let us know if you will be helping.
URL:https://silverlakenaturecenter.org/event/waterway-cleanup-day/
LOCATION:Silver Lake Nature Center’s EARTHSHIP\, 1006 Bath Road\, Bristol\, PA\, 19007\, United States
END:VEVENT
END:VCALENDAR